BEGIN:VCALENDAR
VERSION:2.0
PRODID:-//Steady Effort Yoga • Wellness • Sound - ECPv6.15.14//NONSGML v1.0//EN
CALSCALE:GREGORIAN
METHOD:PUBLISH
X-WR-CALNAME:Steady Effort Yoga • Wellness • Sound
X-ORIGINAL-URL:https://steadyeffortyoga.ca
X-WR-CALDESC:Events for Steady Effort Yoga • Wellness • Sound
REFRESH-INTERVAL;VALUE=DURATION:PT1H
X-Robots-Tag:noindex
X-PUBLISHED-TTL:PT1H
BEGIN:VTIMEZONE
TZID:America/Vancouver
BEGIN:DAYLIGHT
TZOFFSETFROM:-0800
TZOFFSETTO:-0700
TZNAME:PDT
DTSTART:20240310T100000
END:DAYLIGHT
BEGIN:STANDARD
TZOFFSETFROM:-0700
TZOFFSETTO:-0800
TZNAME:PST
DTSTART:20241103T090000
END:STANDARD
BEGIN:DAYLIGHT
TZOFFSETFROM:-0800
TZOFFSETTO:-0700
TZNAME:PDT
DTSTART:20250309T100000
END:DAYLIGHT
BEGIN:STANDARD
TZOFFSETFROM:-0700
TZOFFSETTO:-0800
TZNAME:PST
DTSTART:20251102T090000
END:STANDARD
BEGIN:DAYLIGHT
TZOFFSETFROM:-0800
TZOFFSETTO:-0700
TZNAME:PDT
DTSTART:20260308T100000
END:DAYLIGHT
BEGIN:STANDARD
TZOFFSETFROM:-0700
TZOFFSETTO:-0800
TZNAME:PST
DTSTART:20261101T090000
END:STANDARD
END:VTIMEZONE
BEGIN:VEVENT
DTSTART;TZID=America/Vancouver:20250604T110000
DTEND;TZID=America/Vancouver:20250625T121500
DTSTAMP:20260425T171945
CREATED:20250505T230732Z
LAST-MODIFIED:20250611T182709Z
UID:2898-1749034800-1750853700@steadyeffortyoga.ca
SUMMARY:Prenatal Yoga
DESCRIPTION:This prenatal yoga class is designed to connect with mind\, body\, baby and community. Each 75 minute class will incorporate various pregnancy topics\, breathwork practices\, 55-60 minutes of yoga suitable for all trimesters and experience levels\, relaxation techniques for your pregnancy journey and 15-20 minutes for tea (provided) and connection with other Momma’s-to-be. \nHelp alleviate common pregnancy related symptoms\, reduce stress\, anxiety and depression while feeling calm\, grounded\, stable and strong preparing yourself for birth and the motherhood adventure that awaits! \n4 week series – $60\nReduced rate drop-in for $15 (regular $17) \nIf you have an older child that requires care during this class\, please reach out to see if we can accommodate your needs. \nNo prior yoga experience is required. \nWednesdays at 11:00am – 12:15pm – June 4th – June 25th\, 2025 \nSign Us Up!
URL:https://steadyeffortyoga.ca/event/prenatal-yoga-4-week-series/
LOCATION:Steady Effort Yoga • Wellness • Sound\, 1641 Dartmouth Rd. Unit 106\, Penticton\, BC\, V2A 4B8\, Canada
CATEGORIES:Prenatal Yoga
ATTACH;FMTTYPE=image/jpeg:https://steadyeffortyoga.ca/wp-content/uploads/2025/05/prenatal-yoga-penticton-steady-effort-yoga-wellness-sound.jpg
ORGANIZER;CN="Steady Effort Yoga %E2%80%A2 Wellness %E2%80%A2 Sound":MAILTO:steadyeffortyoga@gmail.com
END:VEVENT
END:VCALENDAR