BEGIN:VCALENDAR
VERSION:2.0
PRODID:-//Steady Effort Yoga • Wellness • Sound - ECPv6.15.14//NONSGML v1.0//EN
CALSCALE:GREGORIAN
METHOD:PUBLISH
X-WR-CALNAME:Steady Effort Yoga • Wellness • Sound
X-ORIGINAL-URL:https://steadyeffortyoga.ca
X-WR-CALDESC:Events for Steady Effort Yoga • Wellness • Sound
REFRESH-INTERVAL;VALUE=DURATION:PT1H
X-Robots-Tag:noindex
X-PUBLISHED-TTL:PT1H
BEGIN:VTIMEZONE
TZID:America/Vancouver
BEGIN:DAYLIGHT
TZOFFSETFROM:-0800
TZOFFSETTO:-0700
TZNAME:PDT
DTSTART:20210314T100000
END:DAYLIGHT
BEGIN:STANDARD
TZOFFSETFROM:-0700
TZOFFSETTO:-0800
TZNAME:PST
DTSTART:20211107T090000
END:STANDARD
BEGIN:DAYLIGHT
TZOFFSETFROM:-0800
TZOFFSETTO:-0700
TZNAME:PDT
DTSTART:20220313T100000
END:DAYLIGHT
BEGIN:STANDARD
TZOFFSETFROM:-0700
TZOFFSETTO:-0800
TZNAME:PST
DTSTART:20221106T090000
END:STANDARD
BEGIN:DAYLIGHT
TZOFFSETFROM:-0800
TZOFFSETTO:-0700
TZNAME:PDT
DTSTART:20230312T100000
END:DAYLIGHT
BEGIN:STANDARD
TZOFFSETFROM:-0700
TZOFFSETTO:-0800
TZNAME:PST
DTSTART:20231105T090000
END:STANDARD
END:VTIMEZONE
BEGIN:VEVENT
DTSTART;TZID=America/Vancouver:20221221T183000
DTEND;TZID=America/Vancouver:20221221T203000
DTSTAMP:20260422T144834
CREATED:20221205T070944Z
LAST-MODIFIED:20221205T071217Z
UID:2128-1671647400-1671654600@steadyeffortyoga.ca
SUMMARY:Winter Solstice Slow Down
DESCRIPTION:Join us Wednesday\, December 21st for an evening of reflection and celebration on the darkest day of the year as we gather for a Winter Solstice Slow Down. Yule marks the time to celebrate the return of the Sun and also time to be still and reflect on what we can release so we can make space for bright\, new beginnings. \nThis 2 hour experience will include: \n• Community\, Ritual & a Mulled Winter Drink \n• Beeswax Candle Making \n• Restorative Aerial Yoga \n• Meditation & Reflective Journaling \n• Sound Bath in a hammock or anywhere you are most comfortable; a nest of blankets and pillows on the floor\, chair\, couch \n• A take home keepsake gift \nCan’t make this day or time work but still want to try some of the above activities? Gather a group and give us a call! We offer custom yoga experiences that fit your life and we will work with your group of people to make it happen! \nInvite your friend\, partner\, spouse\, co-worker\, classmate\, sister\, or brother for a healing evening of connection\, fun and yoga in Penticton. \n• Space is limited to 8 people (minimum 3 attendees for event to run) \n• $40 + gst per person – Sign up and pay online below OR Contact us to sign up and pay by e-transfer \n• Refreshments provided \n• Please dress in comfortable clothing with no velcro\, zippers\, sequins or embellishments \n• Not wheelchair accessible. Entrance through stairs only. \n• Detailed location and parking directions will be emailed to you for this event in Penticton \nPlease review our event cancellation policy prior to booking here. \nBook Now
URL:https://steadyeffortyoga.ca/event/winter-solstice-slow-down/
LOCATION:BC
CATEGORIES:Aerial Yoga,All Levels Yoga,Beginners Aerial Yoga,Community,Custom Yoga Experience,Evening Yoga,Journaling,Meditation,Mindfulness,Sound Baths,Sound Healing,Winter Solstice,Yule
ATTACH;FMTTYPE=image/png:https://steadyeffortyoga.ca/wp-content/uploads/2022/12/Winter-Solstice-Slow-Down-Restorative-Yoga-Penticton-Steady-Effort-Yoga.png
END:VEVENT
END:VCALENDAR