BEGIN:VCALENDAR
VERSION:2.0
PRODID:-//Steady Effort Yoga • Wellness • Sound - ECPv6.15.14//NONSGML v1.0//EN
CALSCALE:GREGORIAN
METHOD:PUBLISH
X-ORIGINAL-URL:https://steadyeffortyoga.ca
X-WR-CALDESC:Events for Steady Effort Yoga • Wellness • Sound
REFRESH-INTERVAL;VALUE=DURATION:PT1H
X-Robots-Tag:noindex
X-PUBLISHED-TTL:PT1H
BEGIN:VTIMEZONE
TZID:America/Vancouver
BEGIN:DAYLIGHT
TZOFFSETFROM:-0800
TZOFFSETTO:-0700
TZNAME:PDT
DTSTART:20210314T100000
END:DAYLIGHT
BEGIN:STANDARD
TZOFFSETFROM:-0700
TZOFFSETTO:-0800
TZNAME:PST
DTSTART:20211107T090000
END:STANDARD
BEGIN:DAYLIGHT
TZOFFSETFROM:-0800
TZOFFSETTO:-0700
TZNAME:PDT
DTSTART:20220313T100000
END:DAYLIGHT
BEGIN:STANDARD
TZOFFSETFROM:-0700
TZOFFSETTO:-0800
TZNAME:PST
DTSTART:20221106T090000
END:STANDARD
BEGIN:DAYLIGHT
TZOFFSETFROM:-0800
TZOFFSETTO:-0700
TZNAME:PDT
DTSTART:20230312T100000
END:DAYLIGHT
BEGIN:STANDARD
TZOFFSETFROM:-0700
TZOFFSETTO:-0800
TZNAME:PST
DTSTART:20231105T090000
END:STANDARD
END:VTIMEZONE
BEGIN:VEVENT
DTSTART;TZID=America/Vancouver:20220214T183000
DTEND;TZID=America/Vancouver:20220214T203000
DTSTAMP:20260422T092348
CREATED:20211116T175608Z
LAST-MODIFIED:20220202T210734Z
UID:1450-1644863400-1644870600@steadyeffortyoga.ca
SUMMARY:Come Together Valentines Day Yoga
DESCRIPTION:Come together this Valentines Day evening with your special someone for a partner yoga experience in Penticton. \nStrengthen your connection with each other through: \n• Breath work \n• Partner yoga – Assisted poses \n• Thai massage \n• Chocolate meditation \n• Anti-gravity sound bath \nSurprise your friend\, partner\, spouse\, co-worker\, classmate\, sister\, or brother with a memorable evening of mindfulness and laughter. \n• Space is limited to 4 couples – Please contact us if you’d like to be added to the cancellation list. \n• $50 + gst per couple – Sign up and pay online OR Contact us to sign up and pay by e-transfer \n• Refreshments provided \n• Please dress in comfortable clothing with no velcro\, zippers\, sequins or embellishments \n• Not wheelchair accessible. Entrance through stairs only. \n• Detailed location and parking directions will be emailed to you for this event in Penticton \n• Proof of Vaccination will be required \nBook Now
URL:https://steadyeffortyoga.ca/event/valentines-day-penticton/
LOCATION:BC
CATEGORIES:Couples/Partner Yoga,Custom Yoga Experience,Evening Yoga,Meditation,Sound Baths
ATTACH;FMTTYPE=image/jpeg:https://steadyeffortyoga.ca/wp-content/uploads/2021/11/C7072301-0317-44B6-80B4-65C85E6D8902.jpeg
END:VEVENT
END:VCALENDAR