BEGIN:VCALENDAR
VERSION:2.0
PRODID:-//Steady Effort Yoga • Wellness • Sound - ECPv6.15.14//NONSGML v1.0//EN
CALSCALE:GREGORIAN
METHOD:PUBLISH
X-ORIGINAL-URL:https://steadyeffortyoga.ca
X-WR-CALDESC:Events for Steady Effort Yoga • Wellness • Sound
REFRESH-INTERVAL;VALUE=DURATION:PT1H
X-Robots-Tag:noindex
X-PUBLISHED-TTL:PT1H
BEGIN:VTIMEZONE
TZID:America/Vancouver
BEGIN:DAYLIGHT
TZOFFSETFROM:-0800
TZOFFSETTO:-0700
TZNAME:PDT
DTSTART:20220313T100000
END:DAYLIGHT
BEGIN:STANDARD
TZOFFSETFROM:-0700
TZOFFSETTO:-0800
TZNAME:PST
DTSTART:20221106T090000
END:STANDARD
BEGIN:DAYLIGHT
TZOFFSETFROM:-0800
TZOFFSETTO:-0700
TZNAME:PDT
DTSTART:20230312T100000
END:DAYLIGHT
BEGIN:STANDARD
TZOFFSETFROM:-0700
TZOFFSETTO:-0800
TZNAME:PST
DTSTART:20231105T090000
END:STANDARD
BEGIN:DAYLIGHT
TZOFFSETFROM:-0800
TZOFFSETTO:-0700
TZNAME:PDT
DTSTART:20240310T100000
END:DAYLIGHT
BEGIN:STANDARD
TZOFFSETFROM:-0700
TZOFFSETTO:-0800
TZNAME:PST
DTSTART:20241103T090000
END:STANDARD
END:VTIMEZONE
BEGIN:VEVENT
DTSTART;TZID=America/Vancouver:20230209T190000
DTEND;TZID=America/Vancouver:20230209T203000
DTSTAMP:20260421T123821
CREATED:20230127T063046Z
LAST-MODIFIED:20230127T072758Z
UID:2172-1675969200-1675974600@steadyeffortyoga.ca
SUMMARY:Beginners Mind Yoga Sampler Series
DESCRIPTION:Join us Thursday evenings at 7:00pm from February 9th to March 2nd where each week we will facilitate a different style of yoga or wellness practice with a Beginners Mindset in this Yoga Sampler Series. \nFrom beginner to advanced and anywhere in between\, your current level of yoga experience is welcome. \nEach Thursday evening our goal is to educate you and inspire you to use these practices in your daily life and practice them anywhere along your wellness journey forward. These experiences are 1.5 hours long each. \nWe highly recommend coming early to have a cup of tea by the fire\, chat with others from our community or take a few moments for your own self-care. \n4 Yoga Styles Offered During this Beginners Mindset Yoga Sampler Series are: \n• How to Use Props to Support Your Yoga Practice – focuses on using yoga props like a block\, bolster or strap (similar items may  be found around your home) to make yoga poses more accessible or comfortable regardless of your current level of fitness and flexibility \n• Beginners Aerial Yoga – focuses on using a hammock suspended from above in a variety of ways to support and help practice traditional yoga poses as well as put a new spin on them \n• Guided Meditation through the Chakras with Crystal Singing Bowl Sound Bath – focuses on learning about each of the Chakras (energy centres in the body) with a guided mindful meditation accompanied by crystal singing bowls to help the body return to its own unique vibrational balance \n• Beginners Hatha Yoga – focuses on creating a slower balanced practice that may include: Asana (yoga postures)\, Pranayama (breathing techniques)\, Mantra (chanting or reciting)\, Mudra (gestures with hands/face/body) Shatkriyas (cleansing techniques)\, Meditation & Visualization \nCan’t make this day or time work but still want to try some of the above activities? Gather a group and give us a call! We offer custom yoga experiences that fit your life and we will work with your group of people to make it happen! \nInvite your friend\, partner\, spouse\, co-worker\, classmate\, sister\, or brother for this Yoga Sampler Series filled with connection\, fun and yoga in Penticton. \n• Space is limited to 8 people (minimum 4 attendees for event to run) \n• $80 per person for all 4 classes – Sign up and pay online below OR Contact us to sign up and pay by e-transfer (Very appreciated as it saves processing fees) \n• Refreshments provided \n• Please dress in comfortable clothing with no velcro\, zippers\, sequins or embellishments \n• Not wheelchair accessible. Entrance through stairs only. \n• Due to weather conditions and parking\, detailed location and parking directions will be emailed to you for this event in Penticton \nPlease review our event cancellation policy prior to booking here. \nBook Now
URL:https://steadyeffortyoga.ca/event/beginners-yoga-sampler-series/
LOCATION:BC
CATEGORIES:Aerial Yoga,All Levels Yoga,Beginners Aerial Yoga,Beginners Yoga,Chakras,Community,Custom Yoga Experience,Evening Yoga,Hatha yoga,Intro to Aerial Yoga,Mantra,Meditation,Mindfulness,Sharing Circle,Sound Baths,Sound Healing,Wellness Programs,Yoga props
ATTACH;FMTTYPE=image/jpeg:https://steadyeffortyoga.ca/wp-content/uploads/2023/01/Beginners-Yoga-Sampler-Series-in-Penticton-Steady-Effort-Yoga-Wellness.jpg
END:VEVENT
END:VCALENDAR