BEGIN:VCALENDAR
VERSION:2.0
PRODID:-//Steady Effort Yoga • Wellness • Sound - ECPv6.15.14//NONSGML v1.0//EN
CALSCALE:GREGORIAN
METHOD:PUBLISH
X-WR-CALNAME:Steady Effort Yoga • Wellness • Sound
X-ORIGINAL-URL:https://steadyeffortyoga.ca
X-WR-CALDESC:Events for Steady Effort Yoga • Wellness • Sound
REFRESH-INTERVAL;VALUE=DURATION:PT1H
X-Robots-Tag:noindex
X-PUBLISHED-TTL:PT1H
BEGIN:VTIMEZONE
TZID:America/Vancouver
BEGIN:DAYLIGHT
TZOFFSETFROM:-0800
TZOFFSETTO:-0700
TZNAME:PDT
DTSTART:20210314T100000
END:DAYLIGHT
BEGIN:STANDARD
TZOFFSETFROM:-0700
TZOFFSETTO:-0800
TZNAME:PST
DTSTART:20211107T090000
END:STANDARD
BEGIN:DAYLIGHT
TZOFFSETFROM:-0800
TZOFFSETTO:-0700
TZNAME:PDT
DTSTART:20220313T100000
END:DAYLIGHT
BEGIN:STANDARD
TZOFFSETFROM:-0700
TZOFFSETTO:-0800
TZNAME:PST
DTSTART:20221106T090000
END:STANDARD
BEGIN:DAYLIGHT
TZOFFSETFROM:-0800
TZOFFSETTO:-0700
TZNAME:PDT
DTSTART:20230312T100000
END:DAYLIGHT
BEGIN:STANDARD
TZOFFSETFROM:-0700
TZOFFSETTO:-0800
TZNAME:PST
DTSTART:20231105T090000
END:STANDARD
END:VTIMEZONE
BEGIN:VEVENT
DTSTART;TZID=America/Vancouver:20220609T090000
DTEND;TZID=America/Vancouver:20220611T170000
DTSTAMP:20260424T035030
CREATED:20220602T011413Z
LAST-MODIFIED:20220602T011519Z
UID:1816-1654765200-1654966800@steadyeffortyoga.ca
SUMMARY:Ha Ha Ha Kidzfest
DESCRIPTION:Join us at the Ha Ha Ha Kidzfest in Penticton for pop up kids yoga and an Appreciation Yoga Workshop on Saturday\, June 11 at 3:30pm. \nThis year the festival theme is “Around The World In A Festival Day”. The Penticton Arts and Culture Community Partners will be offering participatory activities that give you experiences from all over the world. \nIn addition to the activity tents\, a wide variety of performances suitable for all ages will be held on the festival’s mainstage. \nBut that’s not all\, the park site will include a Workshop Area where kidz can get professional instruction from artists and performers\, the Tiny Town area for those aged 5 and under plus a very special Indigenous Village. Oh and you don’t want to miss out on the Nylon Zoo. Wahooo! \nYou can find out more information about the festival and how to purchase tickets here.
URL:https://steadyeffortyoga.ca/event/ha-ha-ha-kidzfest/
LOCATION:Gyro Park\, 55 Main St.\, Penticton\, BC\, V2A5K1\, Canada
CATEGORIES:Children's Yoga,Community,Family Yoga,Kids Yoga,Outdoor Yoga,Workshop
ATTACH;FMTTYPE=image/png:https://steadyeffortyoga.ca/wp-content/uploads/2022/06/ha-ha-ha-kidzfest-penticton-kids-yoga.png
ORGANIZER;CN="Ha Ha Ha Kidzfest":MAILTO:info@hahahakidzfest.com
END:VEVENT
END:VCALENDAR