BEGIN:VCALENDAR
VERSION:2.0
PRODID:-//Steady Effort Yoga • Wellness • Sound - ECPv6.15.14//NONSGML v1.0//EN
CALSCALE:GREGORIAN
METHOD:PUBLISH
X-ORIGINAL-URL:https://steadyeffortyoga.ca
X-WR-CALDESC:Events for Steady Effort Yoga • Wellness • Sound
REFRESH-INTERVAL;VALUE=DURATION:PT1H
X-Robots-Tag:noindex
X-PUBLISHED-TTL:PT1H
BEGIN:VTIMEZONE
TZID:America/Vancouver
BEGIN:DAYLIGHT
TZOFFSETFROM:-0800
TZOFFSETTO:-0700
TZNAME:PDT
DTSTART:20240310T100000
END:DAYLIGHT
BEGIN:STANDARD
TZOFFSETFROM:-0700
TZOFFSETTO:-0800
TZNAME:PST
DTSTART:20241103T090000
END:STANDARD
BEGIN:DAYLIGHT
TZOFFSETFROM:-0800
TZOFFSETTO:-0700
TZNAME:PDT
DTSTART:20250309T100000
END:DAYLIGHT
BEGIN:STANDARD
TZOFFSETFROM:-0700
TZOFFSETTO:-0800
TZNAME:PST
DTSTART:20251102T090000
END:STANDARD
BEGIN:DAYLIGHT
TZOFFSETFROM:-0800
TZOFFSETTO:-0700
TZNAME:PDT
DTSTART:20260308T100000
END:DAYLIGHT
BEGIN:STANDARD
TZOFFSETFROM:-0700
TZOFFSETTO:-0800
TZNAME:PST
DTSTART:20261101T090000
END:STANDARD
END:VTIMEZONE
BEGIN:VEVENT
DTSTART;TZID=America/Vancouver:20250915T130000
DTEND;TZID=America/Vancouver:20250915T141500
DTSTAMP:20260423T184511
CREATED:20250505T231528Z
LAST-MODIFIED:20250927T014859Z
UID:2906-1757941200-1757945700@steadyeffortyoga.ca
SUMMARY:Baby & Me Yoga
DESCRIPTION:Join baby Juniper and her Mama Heather for an hour of movement\, relaxation\, and fun. This sweet and supportive series of classes is for you and your little one to ground and develop your connection through playful movement. Meet other families in your community while exploring poses that move and stretch adults while entertaining baby. We will also dabble in gentle massage and moves for the babes. Each session ends with a cup of tea/coffee and time to connect with the group. \nAll parents and pre-walking babies are welcome to join. \nNo prior yoga experience is required. \nPlease bring a blanket for your baby. Our studio has lots of space for babies and their belongings\, a baby change table\, hot water/microwave\, fridge\, comfy couches\, is lactation friendly and free parking. \nMondays at 1:00pm – 2:15pm – September 15th – October 6th\, 2025\nSliding scale available if needed\, please connect via your preferred method. \nSign Us Up!
URL:https://steadyeffortyoga.ca/event/baby-me-yoga-4-week-series/
LOCATION:Steady Effort Yoga • Wellness • Sound\, 1641 Dartmouth Rd. Unit 106\, Penticton\, BC\, V2A 4B8\, Canada
CATEGORIES:Baby & Me Yoga
ATTACH;FMTTYPE=image/jpeg:https://steadyeffortyoga.ca/wp-content/uploads/2025/05/baby-and-me-yoga-penticton-steady-effort-yoga.jpg
ORGANIZER;CN="Steady Effort Yoga %E2%80%A2 Wellness %E2%80%A2 Sound":MAILTO:steadyeffortyoga@gmail.com
END:VEVENT
END:VCALENDAR