BEGIN:VCALENDAR
VERSION:2.0
PRODID:-//Steady Effort Yoga • Wellness • Sound - ECPv6.15.14//NONSGML v1.0//EN
CALSCALE:GREGORIAN
METHOD:PUBLISH
X-ORIGINAL-URL:https://steadyeffortyoga.ca
X-WR-CALDESC:Events for Steady Effort Yoga • Wellness • Sound
REFRESH-INTERVAL;VALUE=DURATION:PT1H
X-Robots-Tag:noindex
X-PUBLISHED-TTL:PT1H
BEGIN:VTIMEZONE
TZID:America/Vancouver
BEGIN:DAYLIGHT
TZOFFSETFROM:-0800
TZOFFSETTO:-0700
TZNAME:PDT
DTSTART:20210314T100000
END:DAYLIGHT
BEGIN:STANDARD
TZOFFSETFROM:-0700
TZOFFSETTO:-0800
TZNAME:PST
DTSTART:20211107T090000
END:STANDARD
BEGIN:DAYLIGHT
TZOFFSETFROM:-0800
TZOFFSETTO:-0700
TZNAME:PDT
DTSTART:20220313T100000
END:DAYLIGHT
BEGIN:STANDARD
TZOFFSETFROM:-0700
TZOFFSETTO:-0800
TZNAME:PST
DTSTART:20221106T090000
END:STANDARD
BEGIN:DAYLIGHT
TZOFFSETFROM:-0800
TZOFFSETTO:-0700
TZNAME:PDT
DTSTART:20230312T100000
END:DAYLIGHT
BEGIN:STANDARD
TZOFFSETFROM:-0700
TZOFFSETTO:-0800
TZNAME:PST
DTSTART:20231105T090000
END:STANDARD
END:VTIMEZONE
BEGIN:VEVENT
DTSTART;TZID=America/Vancouver:20220612T100000
DTEND;TZID=America/Vancouver:20220612T110000
DTSTAMP:20260423T001737
CREATED:20220602T003213Z
LAST-MODIFIED:20220602T003653Z
UID:1809-1655028000-1655031600@steadyeffortyoga.ca
SUMMARY:You're Not Alone Motherhood Sharing Circle
DESCRIPTION:Feeling alone in your parenting journey? Isolation preventing you from thriving? Overwhelm holding you down? \nJoin Katherine and Laurel in a safe sharing space and begin to thrive on Sunday\, June 12th\, 2022 from 10:00am – 11:00am. \nThey will provide you with tools to begin to thrive. You will also have the opportunity to create meaningful connections with other Moms. \nStop isolating and start sharing. Stop feeling alone and start connecting. \nThis is an in person wellness event located in Penticton. If you would like to attend this event you can register on the Internal Balance website here to reserve your space. \n• $25 per person – Email katherine@blossomingmothercounselling.com or call/text 1-250-485-8606 to reserve your space or register here. \n• Not wheelchair accessible. Entrance through stairs only. \n• Detailed location and parking directions will be emailed to you for this event in Penticton
URL:https://steadyeffortyoga.ca/event/youre-not-alone-motherhood-sharing-circle/
CATEGORIES:Community,Postnatal Yoga,Prenatal Yoga,Sharing Circle,Wellness Programs,Workshop,Workshop Series
ATTACH;FMTTYPE=image/jpeg:https://steadyeffortyoga.ca/wp-content/uploads/2022/06/youre-not-along-motherhood-sharing-circle-steady-effort.jpg
END:VEVENT
END:VCALENDAR