BEGIN:VCALENDAR
VERSION:2.0
PRODID:-//Steady Effort Yoga • Wellness • Sound - ECPv6.15.14//NONSGML v1.0//EN
CALSCALE:GREGORIAN
METHOD:PUBLISH
X-WR-CALNAME:Steady Effort Yoga • Wellness • Sound
X-ORIGINAL-URL:https://steadyeffortyoga.ca
X-WR-CALDESC:Events for Steady Effort Yoga • Wellness • Sound
REFRESH-INTERVAL;VALUE=DURATION:PT1H
X-Robots-Tag:noindex
X-PUBLISHED-TTL:PT1H
BEGIN:VTIMEZONE
TZID:America/Vancouver
BEGIN:DAYLIGHT
TZOFFSETFROM:-0800
TZOFFSETTO:-0700
TZNAME:PDT
DTSTART:20210314T100000
END:DAYLIGHT
BEGIN:STANDARD
TZOFFSETFROM:-0700
TZOFFSETTO:-0800
TZNAME:PST
DTSTART:20211107T090000
END:STANDARD
BEGIN:DAYLIGHT
TZOFFSETFROM:-0800
TZOFFSETTO:-0700
TZNAME:PDT
DTSTART:20220313T100000
END:DAYLIGHT
BEGIN:STANDARD
TZOFFSETFROM:-0700
TZOFFSETTO:-0800
TZNAME:PST
DTSTART:20221106T090000
END:STANDARD
BEGIN:DAYLIGHT
TZOFFSETFROM:-0800
TZOFFSETTO:-0700
TZNAME:PDT
DTSTART:20230312T100000
END:DAYLIGHT
BEGIN:STANDARD
TZOFFSETFROM:-0700
TZOFFSETTO:-0800
TZNAME:PST
DTSTART:20231105T090000
END:STANDARD
END:VTIMEZONE
BEGIN:VEVENT
DTSTART;TZID=America/Vancouver:20220515T190000
DTEND;TZID=America/Vancouver:20220515T210000
DTSTAMP:20260421T153617
CREATED:20220505T015028Z
LAST-MODIFIED:20220515T003253Z
UID:1602-1652641200-1652648400@steadyeffortyoga.ca
SUMMARY:Scorpio Full Moon & Total Lunar Eclipse
DESCRIPTION:The Full Moon is seen as the climax of the monthly lunar cycle. It is a time when our energies peak and it is time to release old and negative patterns. Let go and start a clean-slate. Join us for a powerful evening of inner work while the Moon is at its brightest (after the total lunar eclipse out of the Earth’s shadow aka Umbra) and can help us shine light on our darkness. \nPlease join us for the Scorpio Full Moon and Total Lunar Eclipse on Sunday\, May 15th from 7:00pm – 9:00pm to: \n• Release toxic thoughts\, habits\, guilt\, fear – anything counterproductive \n• Look within to heal\, shift and shed the past \n• Practice forgiveness and gratitude \nOur 2 hour event Beltane event will include: \n• Ritual\, Forgiveness & Gratitude \n• Community & Journaling \n• Breath work – Pranayama \n• Meditation – Dhyana \n• Movement – Asana \n• Intro to Aerial Hammocks \n• Anti-gravity sound bath (relax in a silk hammock while listening to crystal singing bowls and other healing instruments) \nCan’t make this day or time work but still want to celebrate the Full Moon in all her glory? Gather a group and give us a call! We offer custom yoga experiences that fit your life and we will work with your group of people to make it happen for any occasion! \nInvite your friend\, partner\, spouse\, co-worker\, classmate\, sister\, or brother for a healing evening of connection\, action and yoga in Penticton. \n• Space is limited to 8 people – Please contact us if you’d like to be added to the cancellation list. \n• $40 + gst per person – Sign up and pay online OR Contact us to sign up and pay by e-transfer \n• Refreshments provided \n• Please dress in comfortable clothing with no velcro\, zippers\, sequins or embellishments \n• Not wheelchair accessible. Entrance through stairs only. \n• Detailed location and parking directions will be emailed to you for this event in Penticton \nBook Now
URL:https://steadyeffortyoga.ca/event/scorpio-full-moon-lunar-eclipse-yoga-penticton/
CATEGORIES:Aerial Yoga,Community,Custom Yoga Experience,Evening Yoga,Full Moon,Journaling,Meditation,Sound Baths,Wellness Programs
ATTACH;FMTTYPE=image/jpeg:https://steadyeffortyoga.ca/wp-content/uploads/2022/05/scorpio-full-moon-event-penticton-steady-effort-yoga-wellness-logo-web-event.jpg
END:VEVENT
BEGIN:VEVENT
DTSTART;TZID=America/Vancouver:20220527T183000
DTEND;TZID=America/Vancouver:20220527T200000
DTSTAMP:20260421T153617
CREATED:20220510T181022Z
LAST-MODIFIED:20220515T015117Z
UID:1624-1653676200-1653681600@steadyeffortyoga.ca
SUMMARY:Kids Yoga for Adults
DESCRIPTION:Kids Yoga for Adults is a playful way to dive into the deeper essence that is you! \nWe can be so dang hard on ourselves and often we find a good bought with playfulness is just what we need to open the door to compassion\, self-love and self-care. \nKids Yoga for Adults is a complete yoga experience that uses movement\, songs\, games\, stories and laughter as ‘the best medicine’ to connect to Self and others. \nDo you have a group of ‘big kids’ that you know would love a private kids yoga for adults event? Get on the horn and let us create the most fun yoga class you’ve ever been to at your place or ours!  \nBring a friend or try Kids Yoga for Adults in Penticton on your own! \n• Space is limited to 8 people – Please contact us if you’d like to be added to the cancellation list. \n• $20 per person – Sign up and pay online OR Contact us to sign up and pay by e-transfer \n• Refreshments provided \n• Please dress in comfortable clothing with no velcro\, zippers\, sequins or embellishments \n• Not wheelchair accessible. Entrance through stairs only. \n• Detailed location and parking directions will be emailed to you for this event in Penticton \nBook Now
URL:https://steadyeffortyoga.ca/event/kids-yoga-for-adults-penticton/
CATEGORIES:Children's Yoga,Community,Custom Yoga Experience,Evening Yoga,Family Yoga,Kids Yoga,Kids Yoga for Adults,Wellness Programs
ATTACH;FMTTYPE=image/jpeg:https://steadyeffortyoga.ca/wp-content/uploads/2022/05/kids-yoga-for-adults-penticton-steady-effort.jpeg
END:VEVENT
BEGIN:VEVENT
DTSTART;TZID=America/Vancouver:20220530T183000
DTEND;TZID=America/Vancouver:20220530T203000
DTSTAMP:20260421T153617
CREATED:20220510T195047Z
LAST-MODIFIED:20220515T002845Z
UID:1631-1653935400-1653942600@steadyeffortyoga.ca
SUMMARY:New Moon in Gemini
DESCRIPTION:Join us Monday\, May 30th when the Moon catches up with the Sun for this New Moon in Gemini! A time to gather\, talk and set seeds of intention for the upcoming month. \nOur 2 hour Gemini New Moon event will include: \n• Ritual and New Moon intention setting \n• Community & Journaling \n• Breath work – Pranayama \n• Movement – Asana \n• Meditation – Dhyana \n• Aerial Hammocks \n• Anti-gravity Sound Bath (relax in a silk hammock while listening to crystal singing bowls) \nCan’t make this day or time work but still want to set intentions with the New Moon? Gather a group and give us a call! We offer custom yoga experiences that fit your life and we will work with your group of people to make it happen for any occasion! \nInvite your friend\, partner\, spouse\, co-worker\, classmate\, sister\, or brother for a healing evening of connection\, action and yoga in Penticton. \n• Space is limited to 8 people – Please contact us if you’d like to be added to the cancellation list. \n• $40 + gst per person – Sign up and pay online OR Contact us to sign up and pay by e-transfer \n• Refreshments provided \n• Please dress in comfortable clothing with no velcro\, zippers\, sequins or embellishments \n• Not wheelchair accessible. Entrance through stairs only. \n• Detailed location and parking directions will be emailed to you for this event in Penticton \nBook Now
URL:https://steadyeffortyoga.ca/event/new-moon-gemini/
CATEGORIES:Aerial Yoga,Community,Custom Yoga Experience,Evening Yoga,Journaling,Meditation,New Moon,Sound Baths,Sound Healing
ATTACH;FMTTYPE=image/jpeg:https://steadyeffortyoga.ca/wp-content/uploads/2022/05/new-moon-gemini-penticton-yoga-web.jpg
END:VEVENT
END:VCALENDAR