BEGIN:VCALENDAR
VERSION:2.0
PRODID:-//Steady Effort Yoga • Wellness • Sound - ECPv6.15.14//NONSGML v1.0//EN
CALSCALE:GREGORIAN
METHOD:PUBLISH
X-ORIGINAL-URL:https://steadyeffortyoga.ca
X-WR-CALDESC:Events for Steady Effort Yoga • Wellness • Sound
REFRESH-INTERVAL;VALUE=DURATION:PT1H
X-Robots-Tag:noindex
X-PUBLISHED-TTL:PT1H
BEGIN:VTIMEZONE
TZID:America/Vancouver
BEGIN:DAYLIGHT
TZOFFSETFROM:-0800
TZOFFSETTO:-0700
TZNAME:PDT
DTSTART:20210314T100000
END:DAYLIGHT
BEGIN:STANDARD
TZOFFSETFROM:-0700
TZOFFSETTO:-0800
TZNAME:PST
DTSTART:20211107T090000
END:STANDARD
BEGIN:DAYLIGHT
TZOFFSETFROM:-0800
TZOFFSETTO:-0700
TZNAME:PDT
DTSTART:20220313T100000
END:DAYLIGHT
BEGIN:STANDARD
TZOFFSETFROM:-0700
TZOFFSETTO:-0800
TZNAME:PST
DTSTART:20221106T090000
END:STANDARD
BEGIN:DAYLIGHT
TZOFFSETFROM:-0800
TZOFFSETTO:-0700
TZNAME:PDT
DTSTART:20230312T100000
END:DAYLIGHT
BEGIN:STANDARD
TZOFFSETFROM:-0700
TZOFFSETTO:-0800
TZNAME:PST
DTSTART:20231105T090000
END:STANDARD
END:VTIMEZONE
BEGIN:VEVENT
DTSTART;TZID=America/Vancouver:20220608T183000
DTEND;TZID=America/Vancouver:20220608T203000
DTSTAMP:20260421T140146
CREATED:20220514T225652Z
LAST-MODIFIED:20220515T002536Z
UID:1680-1654713000-1654720200@steadyeffortyoga.ca
SUMMARY:Best Friends Day Yoga
DESCRIPTION:Celebrate your best friend that you can always rely on and who accepts you for who you are with Best Friends Day Yoga! \nJoin us as we guide you and your genuine\, trustworthy pal through: \n• Partner Yoga \n• Thai Massage \n• Aerial Yoga \n• A Chocolate Meditation \n• Anti-Gravity Sound Bath (relax in a silk hammock while listening to crystal singing bowls) \nDo you have lots of best friends and want a private event? That’s awesome! Contact us if you’d like to fill the room with just your group of besties and let the giggling begin! \nThis is sure to be a fun evening of connection\, laughter and yoga in Penticton. \n• Space is limited to 8 friends – Please contact us if you’d like to be added to the cancellation list. \n• $50 + gst per 2 best friends – Sign up and pay online OR Contact us to sign up and pay by e-transfer \n• Refreshments provided \n• Please dress in comfortable clothing with no velcro\, zippers\, sequins or embellishments \n• Not wheelchair accessible. Entrance through stairs only. \n• Detailed location and parking directions will be emailed to you for this event in Penticton \nBook Now
URL:https://steadyeffortyoga.ca/event/best-friends-day-yoga-penticton/
CATEGORIES:Aerial Yoga,All Levels Yoga,Community,Couples/Partner Yoga,Custom Yoga Experience,Evening Yoga,Friend Yoga,Meditation,Private Yoga,Sound Baths,Sound Healing
ATTACH;FMTTYPE=image/jpeg:https://steadyeffortyoga.ca/wp-content/uploads/2022/05/best-friends-day-yoga-partner-yoga-penticton-web.jpeg
END:VEVENT
BEGIN:VEVENT
DTSTART;TZID=America/Vancouver:20220609T090000
DTEND;TZID=America/Vancouver:20220611T170000
DTSTAMP:20260421T140146
CREATED:20220602T011413Z
LAST-MODIFIED:20220602T011519Z
UID:1816-1654765200-1654966800@steadyeffortyoga.ca
SUMMARY:Ha Ha Ha Kidzfest
DESCRIPTION:Join us at the Ha Ha Ha Kidzfest in Penticton for pop up kids yoga and an Appreciation Yoga Workshop on Saturday\, June 11 at 3:30pm. \nThis year the festival theme is “Around The World In A Festival Day”. The Penticton Arts and Culture Community Partners will be offering participatory activities that give you experiences from all over the world. \nIn addition to the activity tents\, a wide variety of performances suitable for all ages will be held on the festival’s mainstage. \nBut that’s not all\, the park site will include a Workshop Area where kidz can get professional instruction from artists and performers\, the Tiny Town area for those aged 5 and under plus a very special Indigenous Village. Oh and you don’t want to miss out on the Nylon Zoo. Wahooo! \nYou can find out more information about the festival and how to purchase tickets here.
URL:https://steadyeffortyoga.ca/event/ha-ha-ha-kidzfest/
LOCATION:Gyro Park\, 55 Main St.\, Penticton\, BC\, V2A5K1\, Canada
CATEGORIES:Children's Yoga,Community,Family Yoga,Kids Yoga,Outdoor Yoga,Workshop
ATTACH;FMTTYPE=image/png:https://steadyeffortyoga.ca/wp-content/uploads/2022/06/ha-ha-ha-kidzfest-penticton-kids-yoga.png
ORGANIZER;CN="Ha Ha Ha Kidzfest":MAILTO:info@hahahakidzfest.com
END:VEVENT
BEGIN:VEVENT
DTSTART;TZID=America/Vancouver:20220618T150000
DTEND;TZID=America/Vancouver:20220618T170000
DTSTAMP:20260421T140146
CREATED:20220601T000004Z
LAST-MODIFIED:20220602T012632Z
UID:1800-1655564400-1655571600@steadyeffortyoga.ca
SUMMARY:Kirtan & Sound Healing Session
DESCRIPTION:Join us on Saturday\, June 18th from 3:00pm – 5:00pm with Dana and Ken from Choosing Love for an afternoon of community\, connection\, chanting and sound healing. \nThis by donation 2 hour Kirtan and Sound Healing session will include: \n• Ritual \n• Community & Connection \n• Kirtan – Rhythmic repetition of words\, phrases or syllables \n• Sound Bath – Options to float in a silk hammock while listening to crystal singing bowls\, rest on the floor or relax in a chair \nInvite your friend\, partner\, spouse\, co-worker\, classmate\, sister\, or brother for an afternoon of connection\, chanting and sound healing in Penticton. \n• Space is limited – Please contact us if you’d like to be added to the cancellation list. \n• By Donation \n• Refreshments provided \n• Please dress in comfortable clothing with no velcro\, zippers\, sequins or embellishments \n• Not wheelchair accessible. Entrance through stairs only. \n• Detailed location and parking directions will be emailed to you for this event in Penticton \nBook Now
URL:https://steadyeffortyoga.ca/event/kirtan-sound-healing-penticton/
CATEGORIES:Aerial Yoga,Community,Custom Yoga Experience,Evening Yoga,Journaling,Meditation,New Moon,Sound Baths,Sound Healing
ATTACH;FMTTYPE=image/jpeg:https://steadyeffortyoga.ca/wp-content/uploads/2022/05/kirtan-sound-healing-penticton-steady-effort-yoga.jpeg
END:VEVENT
BEGIN:VEVENT
DTSTART;TZID=America/Vancouver:20220629T183000
DTEND;TZID=America/Vancouver:20220629T203000
DTSTAMP:20260421T140146
CREATED:20210715T184835Z
LAST-MODIFIED:20220617T014943Z
UID:900-1656527400-1656534600@steadyeffortyoga.ca
SUMMARY:Prenatal Partner Yoga
DESCRIPTION:During this time of great change\, (minute to minute/day to day) prenatal yoga is a powerful practice that brings awareness to both Mom and Dad’s physical\, mental and emotional states of well being. \nYes\, yoga helps alleviate aches and pains and strengthens and stretches us out\, but it also teaches us the tools to be where we are at in the present moment (not where we were before pregnancy or after our new bundle of joy has arrived) It teaches us to notice\, connect and discern what is best for us\, our body\, our partner and our baby right now. \nHaving experienced a variety of births between us\, we are so passionate about sharing our love of prenatal yoga\, partner yoga and Thai massage with you. \nNo previous yoga experience is necessary. \nOur Prenatal Partner Yoga evening will include:\n• Prenatal & Partner Yoga Poses \n• Helpful Labouring Techniques \n• Pelvic Floor Awareness \n• Thai Massage \n• Breath Work & Meditation \n• Connection \n• Sound Healing \nWould you feel more comfortable practicing prenatal partner yoga in your own home? We understand and would love to come to where you feel the safest and the most at ease. Please contact us for a private partner prenatal experience today.\n• Space is limited to 4 couples – Please contact us if you’d like to be added to the cancellation list. \n• $50 + gst per couple – Sign up and pay online OR Contact us to sign up and pay by e-transfer \n• Tea provided \n• Please dress in comfortable clothing with no velcro\, zippers\, sequins or embellishments \n• Not wheelchair accessible. Entrance through stairs only. \n• Detailed location and parking directions will be emailed to you for this event in Penticton \n• Please review our event cancellation policy prior to booking here \n  \nBook Now
URL:https://steadyeffortyoga.ca/event/prenatal-partner-yoga-penticton/
CATEGORIES:All Levels Yoga,Community,Couples/Partner Yoga,Custom Yoga Experience,Evening Yoga,Meditation,Prenatal Yoga,Sound Baths,Sound Healing
ATTACH;FMTTYPE=image/jpeg:https://steadyeffortyoga.ca/wp-content/uploads/2021/09/partner-prenatal-yoga-penticton-workshop-steady-effort-yoga-wellness.jpg
END:VEVENT
END:VCALENDAR