BEGIN:VCALENDAR
VERSION:2.0
PRODID:-//Steady Effort Yoga • Wellness • Sound - ECPv6.15.14//NONSGML v1.0//EN
CALSCALE:GREGORIAN
METHOD:PUBLISH
X-WR-CALNAME:Steady Effort Yoga • Wellness • Sound
X-ORIGINAL-URL:https://steadyeffortyoga.ca
X-WR-CALDESC:Events for Steady Effort Yoga • Wellness • Sound
REFRESH-INTERVAL;VALUE=DURATION:PT1H
X-Robots-Tag:noindex
X-PUBLISHED-TTL:PT1H
BEGIN:VTIMEZONE
TZID:America/Vancouver
BEGIN:DAYLIGHT
TZOFFSETFROM:-0800
TZOFFSETTO:-0700
TZNAME:PDT
DTSTART:20220313T100000
END:DAYLIGHT
BEGIN:STANDARD
TZOFFSETFROM:-0700
TZOFFSETTO:-0800
TZNAME:PST
DTSTART:20221106T090000
END:STANDARD
BEGIN:DAYLIGHT
TZOFFSETFROM:-0800
TZOFFSETTO:-0700
TZNAME:PDT
DTSTART:20230312T100000
END:DAYLIGHT
BEGIN:STANDARD
TZOFFSETFROM:-0700
TZOFFSETTO:-0800
TZNAME:PST
DTSTART:20231105T090000
END:STANDARD
BEGIN:DAYLIGHT
TZOFFSETFROM:-0800
TZOFFSETTO:-0700
TZNAME:PDT
DTSTART:20240310T100000
END:DAYLIGHT
BEGIN:STANDARD
TZOFFSETFROM:-0700
TZOFFSETTO:-0800
TZNAME:PST
DTSTART:20241103T090000
END:STANDARD
END:VTIMEZONE
BEGIN:VEVENT
DTSTART;TZID=America/Vancouver:20230126T190000
DTEND;TZID=America/Vancouver:20230126T201500
DTSTAMP:20260421T021547
CREATED:20221215T194136Z
LAST-MODIFIED:20230124T220208Z
UID:2134-1674759600-1674764100@steadyeffortyoga.ca
SUMMARY:New Years Yoga Sampler Series
DESCRIPTION:Do you want to try yoga but aren’t sure which style is right for you? Or maybe you love all the styles and want to mix up your practice. \nJoin us Thursday evenings at 7:00pm – 8:15pm\, from January 12th to February 2nd where each week we will facilitate a different style of yoga class in our first Yoga Sampler Series. \nNo previous yoga experience is necessary for all of the sampler classes. \n4 Yoga Styles Offered During this Yoga Sampler Series are: \n• Beginners Flow Yoga – focuses on connecting your breath with movement resulting in a smooth\, flow like feeling practice \n• Restorative Yoga – focuses on slowing down and opening your body through restful\, passive movements \n• Aerial Yoga – focuses on using a hammock suspended from above in a variety of ways to support and help practice traditional yoga poses as well as put a new spin on them \n• Yoga Nidra & Sound Healing – focuses on entering a deep state of conscious relaxation or yogic sleep through meditation accompanied by crystal singing bowls to help the body return to its own unique vibrational balance \nCan’t make this day or time work but still want to try some of the above activities? Gather a group and give us a call! We offer custom yoga experiences that fit your life and we will work with your group of people to make it happen! \nInvite your friend\, partner\, spouse\, co-worker\, classmate\, sister\, or brother for this Yoga Sampler Series filled with connection\, fun and yoga in Penticton. \n• Space is limited to 8 people (minimum 4 attendees for event to run) \n• $60 per person for all 4 classes – Sign up and pay online below OR Contact us to sign up and pay by e-transfer \n• Refreshments provided \n• Please dress in comfortable clothing with no velcro\, zippers\, sequins or embellishments \n• Not wheelchair accessible. Entrance through stairs only. \n• Due to weather conditions and parking\, detailed location and parking directions will be emailed to you for this event in Penticton \nPlease review our event cancellation policy prior to booking here. \nBook Now
URL:https://steadyeffortyoga.ca/event/yoga-sampler-series/
CATEGORIES:Aerial Yoga,All Levels Yoga,Beginners Aerial Yoga,Beginners Yoga,Community,Evening Yoga,Meditation,Mindfulness,Sound Baths,Sound Healing
ATTACH;FMTTYPE=image/jpeg:https://steadyeffortyoga.ca/wp-content/uploads/2022/12/Yoga-Sampler-Series-Try-Different-Styles-of-Yoga-in-Penticton.jpg
END:VEVENT
END:VCALENDAR